BEGIN:VCALENDAR
VERSION:2.0
PRODID:-//KLuvEntertainment - ECPv6.15.5//NONSGML v1.0//EN
CALSCALE:GREGORIAN
METHOD:PUBLISH
X-WR-CALNAME:KLuvEntertainment
X-ORIGINAL-URL:https://kluventertainment.com
X-WR-CALDESC:Events for KLuvEntertainment
REFRESH-INTERVAL;VALUE=DURATION:PT1H
X-Robots-Tag:noindex
X-PUBLISHED-TTL:PT1H
BEGIN:VTIMEZONE
TZID:America/New_York
BEGIN:DAYLIGHT
TZOFFSETFROM:-0500
TZOFFSETTO:-0400
TZNAME:EDT
DTSTART:20260308T070000
END:DAYLIGHT
BEGIN:STANDARD
TZOFFSETFROM:-0400
TZOFFSETTO:-0500
TZNAME:EST
DTSTART:20261101T060000
END:STANDARD
END:VTIMEZONE
BEGIN:VEVENT
DTSTART;TZID=America/New_York:20260605T190000
DTEND;TZID=America/New_York:20260605T220000
DTSTAMP:20260424T113232
CREATED:20260222T152225Z
LAST-MODIFIED:20260222T152225Z
UID:4310-1780686000-1780696800@kluventertainment.com
SUMMARY:Rusty's Raw Bar - Cape Coral\, FL
DESCRIPTION:
URL:https://kluventertainment.com/event/rustys-raw-bar-cape-coral-fl/
LOCATION:Rusty’s Raw Bar – Cape Coral\, 4631 SE 10th Pl\, Cape Coral\, 33904\, United States
CATEGORIES:Music - Band
END:VEVENT
BEGIN:VEVENT
DTSTART;TZID=America/New_York:20260606T213000
DTEND;TZID=America/New_York:20260607T020000
DTSTAMP:20260424T113232
CREATED:20260222T152315Z
LAST-MODIFIED:20260311T110636Z
UID:4312-1780781400-1780797600@kluventertainment.com
SUMMARY:Gator Club - Sarasota\, FL
DESCRIPTION:
URL:https://kluventertainment.com/event/gator-bar-sarasota-fl/
LOCATION:The Gator Club – Sarasota\, 1490 Main St\, Sarasota\, FL\, 34236\, United States
CATEGORIES:Music - Band
END:VEVENT
BEGIN:VEVENT
DTSTART;TZID=America/New_York:20260612T190000
DTEND;TZID=America/New_York:20260612T230000
DTSTAMP:20260424T113232
CREATED:20260401T195717Z
LAST-MODIFIED:20260402T103454Z
UID:4412-1781290800-1781305200@kluventertainment.com
SUMMARY:Seacraft Waterfront Tiki - North Fort Myers\, FL
DESCRIPTION:
URL:https://kluventertainment.com/event/the-gator-club-sarasota-fl-4/
LOCATION:Sea-Craft Waterfront Tiki\, 3440 Marinatown lane\, North Fort Myers\, FL\, 33903\, United States
CATEGORIES:Music - Band
END:VEVENT
BEGIN:VEVENT
DTSTART;VALUE=DATE:20260613
DTEND;VALUE=DATE:20260615
DTSTAMP:20260424T113232
CREATED:20260222T152345Z
LAST-MODIFIED:20260325T114728Z
UID:4314-1781316000-1781402399@kluventertainment.com
SUMMARY:Private Event - Deltona\, FL
DESCRIPTION:
URL:https://kluventertainment.com/event/private-event-2/
LOCATION:Private Event
END:VEVENT
BEGIN:VEVENT
DTSTART;VALUE=DATE:20260619
DTEND;VALUE=DATE:20260621
DTSTAMP:20260424T113232
CREATED:20260222T152429Z
LAST-MODIFIED:20260225T132939Z
UID:4316-1781834400-1781920799@kluventertainment.com
SUMMARY:OCC Roadhouse - Clearwater\, FL
DESCRIPTION:
URL:https://kluventertainment.com/event/occ-roadhouse-clearwater-fl/
LOCATION:OCC Road House & Museum\, 10575 49th St N.\, Clearwater\, FL\, 33762\, United States
CATEGORIES:Music - Band
END:VEVENT
BEGIN:VEVENT
DTSTART;TZID=America/New_York:20260620T190000
DTEND;TZID=America/New_York:20260620T230000
DTSTAMP:20260424T113232
CREATED:20260222T152952Z
LAST-MODIFIED:20260222T152952Z
UID:4320-1781982000-1781996400@kluventertainment.com
SUMMARY:Motorworks Brewing - Bradenton\, FL
DESCRIPTION:
URL:https://kluventertainment.com/event/motorworks-brewing-bradenton-fl-2/
LOCATION:Motorworks Brewing\, 1014 9th St W.\, Bradenton\, FL\, 34205\, United States
CATEGORIES:Music - Band
END:VEVENT
BEGIN:VEVENT
DTSTART;TZID=America/New_York:20260626T200000
DTEND;TZID=America/New_York:20260627T000000
DTSTAMP:20260424T113232
CREATED:20260107T203439Z
LAST-MODIFIED:20260222T153127Z
UID:4239-1782504000-1782518400@kluventertainment.com
SUMMARY:Encore Live - Bradenton\, FL
DESCRIPTION:
URL:https://kluventertainment.com/event/encore-live-sarasota-fl-2/
LOCATION:Encore Live – Bradenton\, FL\, 5520 14th Street W\, Bradenton\, FL\, 34207
CATEGORIES:Music - Band
END:VEVENT
END:VCALENDAR