BEGIN:VCALENDAR
VERSION:2.0
PRODID:-//KLuvEntertainment - ECPv6.15.5//NONSGML v1.0//EN
CALSCALE:GREGORIAN
METHOD:PUBLISH
X-WR-CALNAME:KLuvEntertainment
X-ORIGINAL-URL:https://kluventertainment.com
X-WR-CALDESC:Events for KLuvEntertainment
REFRESH-INTERVAL;VALUE=DURATION:PT1H
X-Robots-Tag:noindex
X-PUBLISHED-TTL:PT1H
BEGIN:VTIMEZONE
TZID:America/New_York
BEGIN:DAYLIGHT
TZOFFSETFROM:-0500
TZOFFSETTO:-0400
TZNAME:EDT
DTSTART:20260308T070000
END:DAYLIGHT
BEGIN:STANDARD
TZOFFSETFROM:-0400
TZOFFSETTO:-0500
TZNAME:EST
DTSTART:20261101T060000
END:STANDARD
END:VTIMEZONE
BEGIN:VEVENT
DTSTART;TZID=America/New_York:20260501T180000
DTEND;TZID=America/New_York:20260501T220000
DTSTAMP:20260424T123935
CREATED:20260325T113750Z
LAST-MODIFIED:20260325T113750Z
UID:4391-1777658400-1777672800@kluventertainment.com
SUMMARY:Sea-Craft Waterfront Tiki - North Ft. Myers\, FL
DESCRIPTION:
URL:https://kluventertainment.com/event/sea-craft-waterfront-tiki-north-ft-myers-fl/
LOCATION:Sea-Craft Waterfront Tiki\, 3440 Marinatown lane\, North Fort Myers\, FL\, 33903\, United States
CATEGORIES:Music - Band
END:VEVENT
BEGIN:VEVENT
DTSTART;TZID=America/New_York:20260513T190000
DTEND;TZID=America/New_York:20260513T230000
DTSTAMP:20260424T123935
CREATED:20260318T110355Z
LAST-MODIFIED:20260318T110355Z
UID:4349-1778698800-1778713200@kluventertainment.com
SUMMARY:Quaker Steak & Lube - Clearwater\, FL
DESCRIPTION:
URL:https://kluventertainment.com/event/quaker-steak-lube-clearwater-fl/
LOCATION:Quaker Steak & Lube\, 10400 49th St N.\, Clearwater\, FL\, 33762\, United States
CATEGORIES:Music - Band
END:VEVENT
BEGIN:VEVENT
DTSTART;TZID=America/New_York:20260515T190000
DTEND;TZID=America/New_York:20260515T230000
DTSTAMP:20260424T123935
CREATED:20260222T151805Z
LAST-MODIFIED:20260318T112450Z
UID:4302-1778871600-1778886000@kluventertainment.com
SUMMARY:Motorworks - Bradenton\, FL
DESCRIPTION:
URL:https://kluventertainment.com/event/motor-works-bradenton-fl/
LOCATION:Motorworks Brewing\, 1014 9th St W.\, Bradenton\, FL\, 34205\, United States
CATEGORIES:Music - Band
END:VEVENT
BEGIN:VEVENT
DTSTART;VALUE=DATE:20260520
DTEND;VALUE=DATE:20260522
DTSTAMP:20260424T123935
CREATED:20260318T110425Z
LAST-MODIFIED:20260325T114627Z
UID:4351-1779242400-1779328799@kluventertainment.com
SUMMARY:Private Event - St. Petersburg\, FL
DESCRIPTION:
URL:https://kluventertainment.com/event/private-event-st-petersburg-fl/
LOCATION:Private Event
CATEGORIES:Music - Band
END:VEVENT
BEGIN:VEVENT
DTSTART;TZID=America/New_York:20260522T190000
DTEND;TZID=America/New_York:20260522T230000
DTSTAMP:20260424T123935
CREATED:20260318T110806Z
LAST-MODIFIED:20260318T112745Z
UID:4353-1779476400-1779490800@kluventertainment.com
SUMMARY:RockHouse Live IRB - Largo\, FL
DESCRIPTION:
URL:https://kluventertainment.com/event/rockhouse-live-irb-largo-fl/
LOCATION:RockHouse Live IRB\, 14219 Walsingham Rd F\, Largo\, FL\, 33774
CATEGORIES:Music - Band
END:VEVENT
BEGIN:VEVENT
DTSTART;TZID=America/New_York:20260523T180000
DTEND;TZID=America/New_York:20260523T210000
DTSTAMP:20260424T123935
CREATED:20260222T151929Z
LAST-MODIFIED:20260222T152841Z
UID:4303-1779559200-1779570000@kluventertainment.com
SUMMARY:Rusty's Raw Bar - Estero\, FL
DESCRIPTION:
URL:https://kluventertainment.com/event/rustys-raw-bar-estero-fl/
LOCATION:Rusty’s Raw Bar – Estero\, 20041 S Tamiami Trl\, Estero\, FL\, 33928\, United States
CATEGORIES:Music - Band
END:VEVENT
BEGIN:VEVENT
DTSTART;TZID=America/New_York:20260529T190000
DTEND;TZID=America/New_York:20260529T230000
DTSTAMP:20260424T123935
CREATED:20260222T152022Z
LAST-MODIFIED:20260222T152022Z
UID:4306-1780081200-1780095600@kluventertainment.com
SUMMARY:Ka'Tiki - Treasure Island\, FL
DESCRIPTION:
URL:https://kluventertainment.com/event/katiki-treasure-island-fl/
LOCATION:Ka’Tiki\, 8803 W Gulf Blvd.\, Treasure Island\, FL\, 33706\, United States
CATEGORIES:Music - Band
END:VEVENT
BEGIN:VEVENT
DTSTART;TZID=America/New_York:20260530T190000
DTEND;TZID=America/New_York:20260530T220000
DTSTAMP:20260424T123935
CREATED:20260222T152131Z
LAST-MODIFIED:20260222T152131Z
UID:4308-1780167600-1780178400@kluventertainment.com
SUMMARY:Twisted Fork - Port Charlotte\, FL
DESCRIPTION:
URL:https://kluventertainment.com/event/twisted-fork-port-charlotte-fl/
LOCATION:The Twisted Fork\, 2208 El Jobean Rd.\, Port Charlotte\, FL\, 33948\, United States
CATEGORIES:Music - Band
END:VEVENT
BEGIN:VEVENT
DTSTART;TZID=America/New_York:20260605T190000
DTEND;TZID=America/New_York:20260605T220000
DTSTAMP:20260424T123935
CREATED:20260222T152225Z
LAST-MODIFIED:20260222T152225Z
UID:4310-1780686000-1780696800@kluventertainment.com
SUMMARY:Rusty's Raw Bar - Cape Coral\, FL
DESCRIPTION:
URL:https://kluventertainment.com/event/rustys-raw-bar-cape-coral-fl/
LOCATION:Rusty’s Raw Bar – Cape Coral\, 4631 SE 10th Pl\, Cape Coral\, 33904\, United States
CATEGORIES:Music - Band
END:VEVENT
BEGIN:VEVENT
DTSTART;TZID=America/New_York:20260606T213000
DTEND;TZID=America/New_York:20260607T020000
DTSTAMP:20260424T123935
CREATED:20260222T152315Z
LAST-MODIFIED:20260311T110636Z
UID:4312-1780781400-1780797600@kluventertainment.com
SUMMARY:Gator Club - Sarasota\, FL
DESCRIPTION:
URL:https://kluventertainment.com/event/gator-bar-sarasota-fl/
LOCATION:The Gator Club – Sarasota\, 1490 Main St\, Sarasota\, FL\, 34236\, United States
CATEGORIES:Music - Band
END:VEVENT
BEGIN:VEVENT
DTSTART;TZID=America/New_York:20260612T190000
DTEND;TZID=America/New_York:20260612T230000
DTSTAMP:20260424T123935
CREATED:20260401T195717Z
LAST-MODIFIED:20260402T103454Z
UID:4412-1781290800-1781305200@kluventertainment.com
SUMMARY:Seacraft Waterfront Tiki - North Fort Myers\, FL
DESCRIPTION:
URL:https://kluventertainment.com/event/the-gator-club-sarasota-fl-4/
LOCATION:Sea-Craft Waterfront Tiki\, 3440 Marinatown lane\, North Fort Myers\, FL\, 33903\, United States
CATEGORIES:Music - Band
END:VEVENT
BEGIN:VEVENT
DTSTART;VALUE=DATE:20260613
DTEND;VALUE=DATE:20260615
DTSTAMP:20260424T123935
CREATED:20260222T152345Z
LAST-MODIFIED:20260325T114728Z
UID:4314-1781316000-1781402399@kluventertainment.com
SUMMARY:Private Event - Deltona\, FL
DESCRIPTION:
URL:https://kluventertainment.com/event/private-event-2/
LOCATION:Private Event
END:VEVENT
BEGIN:VEVENT
DTSTART;VALUE=DATE:20260619
DTEND;VALUE=DATE:20260621
DTSTAMP:20260424T123935
CREATED:20260222T152429Z
LAST-MODIFIED:20260225T132939Z
UID:4316-1781834400-1781920799@kluventertainment.com
SUMMARY:OCC Roadhouse - Clearwater\, FL
DESCRIPTION:
URL:https://kluventertainment.com/event/occ-roadhouse-clearwater-fl/
LOCATION:OCC Road House & Museum\, 10575 49th St N.\, Clearwater\, FL\, 33762\, United States
CATEGORIES:Music - Band
END:VEVENT
BEGIN:VEVENT
DTSTART;TZID=America/New_York:20260620T190000
DTEND;TZID=America/New_York:20260620T230000
DTSTAMP:20260424T123935
CREATED:20260222T152952Z
LAST-MODIFIED:20260222T152952Z
UID:4320-1781982000-1781996400@kluventertainment.com
SUMMARY:Motorworks Brewing - Bradenton\, FL
DESCRIPTION:
URL:https://kluventertainment.com/event/motorworks-brewing-bradenton-fl-2/
LOCATION:Motorworks Brewing\, 1014 9th St W.\, Bradenton\, FL\, 34205\, United States
CATEGORIES:Music - Band
END:VEVENT
BEGIN:VEVENT
DTSTART;TZID=America/New_York:20260626T200000
DTEND;TZID=America/New_York:20260627T000000
DTSTAMP:20260424T123935
CREATED:20260107T203439Z
LAST-MODIFIED:20260222T153127Z
UID:4239-1782504000-1782518400@kluventertainment.com
SUMMARY:Encore Live - Bradenton\, FL
DESCRIPTION:
URL:https://kluventertainment.com/event/encore-live-sarasota-fl-2/
LOCATION:Encore Live – Bradenton\, FL\, 5520 14th Street W\, Bradenton\, FL\, 34207
CATEGORIES:Music - Band
END:VEVENT
BEGIN:VEVENT
DTSTART;TZID=America/New_York:20260703T180000
DTEND;TZID=America/New_York:20260703T220000
DTSTAMP:20260424T123935
CREATED:20260222T153225Z
LAST-MODIFIED:20260311T110732Z
UID:4322-1783101600-1783116000@kluventertainment.com
SUMMARY:Crump's Landing - Homosassa\, FL
DESCRIPTION:
URL:https://kluventertainment.com/event/crumps-landing-homosassa-fl-2/
LOCATION:Crump’s Landing – Homosassa\, 11210 W Halls River Rd.\, Homosassa\, FL\, 34448\, United States
CATEGORIES:Music - Band
END:VEVENT
BEGIN:VEVENT
DTSTART;VALUE=DATE:20260704
DTEND;VALUE=DATE:20260706
DTSTAMP:20260424T123935
CREATED:20260222T153338Z
LAST-MODIFIED:20260222T153338Z
UID:4324-1783130400-1783216799@kluventertainment.com
SUMMARY:Stottlemyer's - Sarasota\, FL
DESCRIPTION:
URL:https://kluventertainment.com/event/stottlemyers-sarasota-fl/
LOCATION:Stottlemeyer’s Smokehouse\, 19 E. RD.\, Sarasota\, FL\, 34240\, United States
END:VEVENT
BEGIN:VEVENT
DTSTART;TZID=America/New_York:20260718T213000
DTEND;TZID=America/New_York:20260719T020000
DTSTAMP:20260424T123935
CREATED:20260222T153414Z
LAST-MODIFIED:20260311T110837Z
UID:4326-1784410200-1784426400@kluventertainment.com
SUMMARY:Gator Club - Sarasota\, FL
DESCRIPTION:
URL:https://kluventertainment.com/event/gator-club-sarasota-fl/
LOCATION:The Gator Club – Sarasota\, 1490 Main St\, Sarasota\, FL\, 34236\, United States
CATEGORIES:Music - Band
END:VEVENT
BEGIN:VEVENT
DTSTART;TZID=America/New_York:20260724T210000
DTEND;TZID=America/New_York:20260725T010000
DTSTAMP:20260424T123935
CREATED:20260222T153506Z
LAST-MODIFIED:20260222T153506Z
UID:4328-1784926800-1784941200@kluventertainment.com
SUMMARY:CJ's Backstage - St. Petersburg. FL
DESCRIPTION:
URL:https://kluventertainment.com/event/cjs-backstage-st-petersburg-fl-2/
LOCATION:CJ’s Backstage\, 7022 22nd Ave N.\, St. Petersburg\, FL\, 33710\, United States
CATEGORIES:Music - Band
END:VEVENT
BEGIN:VEVENT
DTSTART;TZID=America/New_York:20260801T180000
DTEND;TZID=America/New_York:20260801T220000
DTSTAMP:20260424T123935
CREATED:20260318T110903Z
LAST-MODIFIED:20260318T110903Z
UID:4356-1785607200-1785621600@kluventertainment.com
SUMMARY:Stottlemeyer's Smokehouse - Sarasota\, FL
DESCRIPTION:
URL:https://kluventertainment.com/event/stottlemeyers-smokehouse-sarasota-fl/
LOCATION:Stottlemeyer’s Smokehouse\, 19 E. RD.\, Sarasota\, FL\, 34240\, United States
CATEGORIES:Music - Band
END:VEVENT
BEGIN:VEVENT
DTSTART;TZID=America/New_York:20260807T190000
DTEND;TZID=America/New_York:20260807T220000
DTSTAMP:20260424T123935
CREATED:20260318T111204Z
LAST-MODIFIED:20260318T111204Z
UID:4358-1786129200-1786140000@kluventertainment.com
SUMMARY:Twisted Fork - Port Charlotte\, FL
DESCRIPTION:
URL:https://kluventertainment.com/event/twisted-fork-port-charlotte-fl-3/
LOCATION:The Twisted Fork\, 2208 El Jobean Rd.\, Port Charlotte\, FL\, 33948\, United States
CATEGORIES:Music - Band
END:VEVENT
BEGIN:VEVENT
DTSTART;TZID=America/New_York:20260814T210000
DTEND;TZID=America/New_York:20260815T020000
DTSTAMP:20260424T123935
CREATED:20260401T195209Z
LAST-MODIFIED:20260401T195209Z
UID:4402-1786741200-1786759200@kluventertainment.com
SUMMARY:The Gator Club - Sarasota\, FL
DESCRIPTION:
URL:https://kluventertainment.com/event/the-gator-club-sarasota-fl/
LOCATION:The Gator Club – Sarasota\, 1490 Main St\, Sarasota\, FL\, 34236\, United States
CATEGORIES:Music - Band
END:VEVENT
BEGIN:VEVENT
DTSTART;TZID=America/New_York:20260815T193000
DTEND;TZID=America/New_York:20260815T230000
DTSTAMP:20260424T123935
CREATED:20260318T111255Z
LAST-MODIFIED:20260318T111255Z
UID:4360-1786822200-1786834800@kluventertainment.com
SUMMARY:TT's Tiki Bar - Punta Gorda\, FL
DESCRIPTION:
URL:https://kluventertainment.com/event/tts-tiki-bar-punta-gorda-fl/
LOCATION:TT’s Tiki Bar\, 33 Tamiami Trail\, Punta Gorda\, FL\, 33950\, United States
CATEGORIES:Music - Band
END:VEVENT
BEGIN:VEVENT
DTSTART;TZID=America/New_York:20260821T180000
DTEND;TZID=America/New_York:20260821T220000
DTSTAMP:20260424T123935
CREATED:20260401T195401Z
LAST-MODIFIED:20260401T195401Z
UID:4404-1787335200-1787349600@kluventertainment.com
SUMMARY:3rd Friday at Bell Harbor
DESCRIPTION:
URL:https://kluventertainment.com/event/3rd-friday-at-bell-harbor/
LOCATION:FL
CATEGORIES:Music - Band
END:VEVENT
BEGIN:VEVENT
DTSTART;TZID=America/New_York:20260822T190000
DTEND;TZID=America/New_York:20260822T230000
DTSTAMP:20260424T123935
CREATED:20260318T111350Z
LAST-MODIFIED:20260318T111350Z
UID:4362-1787425200-1787439600@kluventertainment.com
SUMMARY:Woody's River Roo - Bradenton\, FL
DESCRIPTION:
URL:https://kluventertainment.com/event/woodys-river-roo-bradenton-fl/
LOCATION:Woody’s River Roo\, 5717 18th St. E.\, Ellenton\, FL\, 32422\, United States
CATEGORIES:Music - Band
END:VEVENT
BEGIN:VEVENT
DTSTART;TZID=America/New_York:20260828T190000
DTEND;TZID=America/New_York:20260828T230000
DTSTAMP:20260424T123935
CREATED:20260318T111453Z
LAST-MODIFIED:20260318T112549Z
UID:4364-1787943600-1787958000@kluventertainment.com
SUMMARY:Motorworks Brewing - Bradenton\, FL
DESCRIPTION:
URL:https://kluventertainment.com/event/motor-works-bradenton-fl-2/
LOCATION:Motorworks Brewing\, 1014 9th St W.\, Bradenton\, FL\, 34205\, United States
CATEGORIES:Music - Band
END:VEVENT
BEGIN:VEVENT
DTSTART;TZID=America/New_York:20260829T180000
DTEND;TZID=America/New_York:20260829T230000
DTSTAMP:20260424T123935
CREATED:20260107T203805Z
LAST-MODIFIED:20260107T203805Z
UID:4244-1788026400-1788044400@kluventertainment.com
SUMMARY:Encore Live - Bradenton\, FL
DESCRIPTION:
URL:https://kluventertainment.com/event/encore-live-bradenton-fl-2/
LOCATION:Encore Live – Bradenton\, FL\, 5520 14th Street W\, Bradenton\, FL\, 34207
CATEGORIES:Music - Band
END:VEVENT
BEGIN:VEVENT
DTSTART;TZID=America/New_York:20260905T130000
DTEND;TZID=America/New_York:20260905T170000
DTSTAMP:20260424T123935
CREATED:20260318T111738Z
LAST-MODIFIED:20260318T111738Z
UID:4368-1788613200-1788627600@kluventertainment.com
SUMMARY:Ka' Tiki - Treasure Island\, FL
DESCRIPTION:
URL:https://kluventertainment.com/event/ka-tiki-treasure-island-fl/
LOCATION:Ka’Tiki\, 8803 W Gulf Blvd.\, Treasure Island\, FL\, 33706\, United States
CATEGORIES:Music - Band
END:VEVENT
BEGIN:VEVENT
DTSTART;TZID=America/New_York:20260912T180000
DTEND;TZID=America/New_York:20260912T220000
DTSTAMP:20260424T123935
CREATED:20260318T111824Z
LAST-MODIFIED:20260318T111824Z
UID:4370-1789236000-1789250400@kluventertainment.com
SUMMARY:Crump's Landing - Homosassa\, FL
DESCRIPTION:
URL:https://kluventertainment.com/event/crumps-landing-homosassa-fl-3/
LOCATION:Crump’s Landing – Homosassa\, 11210 W Halls River Rd.\, Homosassa\, FL\, 34448\, United States
CATEGORIES:Music - Band
END:VEVENT
BEGIN:VEVENT
DTSTART;TZID=America/New_York:20260918T210000
DTEND;TZID=America/New_York:20260919T020000
DTSTAMP:20260424T123935
CREATED:20260401T195449Z
LAST-MODIFIED:20260401T195449Z
UID:4406-1789765200-1789783200@kluventertainment.com
SUMMARY:The Gator Club - Sarasota\, FL
DESCRIPTION:
URL:https://kluventertainment.com/event/the-gator-club-sarasota-fl-2/
LOCATION:The Gator Club – Sarasota\, 1490 Main St\, Sarasota\, FL\, 34236\, United States
CATEGORIES:Music - Band
END:VEVENT
END:VCALENDAR