BEGIN:VCALENDAR
VERSION:2.0
PRODID:-//KLuvEntertainment - ECPv6.15.5//NONSGML v1.0//EN
CALSCALE:GREGORIAN
METHOD:PUBLISH
X-ORIGINAL-URL:https://kluventertainment.com
X-WR-CALDESC:Events for KLuvEntertainment
REFRESH-INTERVAL;VALUE=DURATION:PT1H
X-Robots-Tag:noindex
X-PUBLISHED-TTL:PT1H
BEGIN:VTIMEZONE
TZID:America/New_York
BEGIN:DAYLIGHT
TZOFFSETFROM:-0500
TZOFFSETTO:-0400
TZNAME:EDT
DTSTART:20260308T070000
END:DAYLIGHT
BEGIN:STANDARD
TZOFFSETFROM:-0400
TZOFFSETTO:-0500
TZNAME:EST
DTSTART:20261101T060000
END:STANDARD
END:VTIMEZONE
BEGIN:VEVENT
DTSTART;TZID=America/New_York:20260419T163000
DTEND;TZID=America/New_York:20260419T180000
DTSTAMP:20260424T112050
CREATED:20260419T140931Z
LAST-MODIFIED:20260419T140931Z
UID:4420-1776616200-1776621600@kluventertainment.com
SUMMARY:Paragon Seafood Festival - Punta Gorda\, FL
DESCRIPTION:
URL:https://kluventertainment.com/event/paragon-seafood-festival-punta-gorda-fl/
LOCATION:Punta Gorda Seafood & Music Festival\, Laishley Park\, 100 Nesbit St.\, Punta Gorda\, FL\, 33950\, United States
CATEGORIES:Music - Band
END:VEVENT
BEGIN:VEVENT
DTSTART;TZID=America/New_York:20260418T180000
DTEND;TZID=America/New_York:20260418T210000
DTSTAMP:20260424T112050
CREATED:20260311T110430Z
LAST-MODIFIED:20260311T110430Z
UID:4342-1776535200-1776546000@kluventertainment.com
SUMMARY:Rusty's Raw Bar - Estero. FL
DESCRIPTION:
URL:https://kluventertainment.com/event/rustys-raw-bar-estero-fl-2/
LOCATION:Rusty’s Raw Bar – Estero\, 20041 S Tamiami Trl\, Estero\, FL\, 33928\, United States
CATEGORIES:Music - Band
END:VEVENT
BEGIN:VEVENT
DTSTART;TZID=America/New_York:20260417T180000
DTEND;TZID=America/New_York:20260417T220000
DTSTAMP:20260424T112050
CREATED:20260203T195058Z
LAST-MODIFIED:20260311T110526Z
UID:4277-1776448800-1776463200@kluventertainment.com
SUMMARY:Stottlemeyer's - Sarasota\, FL
DESCRIPTION:
URL:https://kluventertainment.com/event/stottlemeyers-sarasota-fl/
LOCATION:Stottlemeyer’s Smokehouse\, 19 E. RD.\, Sarasota\, FL\, 34240\, United States
CATEGORIES:Music - Band
END:VEVENT
BEGIN:VEVENT
DTSTART;TZID=America/New_York:20260411T210000
DTEND;TZID=America/New_York:20260412T010000
DTSTAMP:20260424T112050
CREATED:20260203T195018Z
LAST-MODIFIED:20260222T153717Z
UID:4275-1775941200-1775955600@kluventertainment.com
SUMMARY:CJ's Backstage - St. Petersburg\, FL (9pm - 1am)
DESCRIPTION:
URL:https://kluventertainment.com/event/cjs-backstage-st-petersburg-fl/
LOCATION:CJ’s Backstage\, 7022 22nd Ave N.\, St. Petersburg\, FL\, 33710\, United States
CATEGORIES:Music - Band
END:VEVENT
BEGIN:VEVENT
DTSTART;TZID=America/New_York:20260411T163000
DTEND;TZID=America/New_York:20260411T180000
DTSTAMP:20260424T112050
CREATED:20260222T152647Z
LAST-MODIFIED:20260222T153641Z
UID:4318-1775925000-1775930400@kluventertainment.com
SUMMARY:Paragon Seafood Festival - N. Ft. Myers\, FL (4:30pm - 6:00pm)
DESCRIPTION:
URL:https://kluventertainment.com/event/paragon-seafood-festival-n-ft-myers-fl/
LOCATION:Ft Myers Seafood Festival\, 1400 Hendry Street\, Fort Myers\, F​L\, 33982
CATEGORIES:Music - Band
END:VEVENT
BEGIN:VEVENT
DTSTART;VALUE=DATE:20260410
DTEND;VALUE=DATE:20260412
DTSTAMP:20260424T112050
CREATED:20260222T000333Z
LAST-MODIFIED:20260325T114519Z
UID:4299-1775786400-1775872799@kluventertainment.com
SUMMARY:Private Event
DESCRIPTION:
URL:https://kluventertainment.com/event/encore-live-bradenton-fl-5/
LOCATION:Private Event
CATEGORIES:Music - Band
END:VEVENT
BEGIN:VEVENT
DTSTART;TZID=America/New_York:20260404T213000
DTEND;TZID=America/New_York:20260405T020000
DTSTAMP:20260424T112050
CREATED:20260203T194931Z
LAST-MODIFIED:20260311T110213Z
UID:4273-1775338200-1775354400@kluventertainment.com
SUMMARY:Gator Club - Sarasota\, FL
DESCRIPTION:
URL:https://kluventertainment.com/event/gator-club-sarasota-fl-3/
LOCATION:The Gator Club – Sarasota\, 1490 Main St\, Sarasota\, FL\, 34236\, United States
CATEGORIES:Music - Band
END:VEVENT
BEGIN:VEVENT
DTSTART;TZID=America/New_York:20260403T190000
DTEND;TZID=America/New_York:20260403T220000
DTSTAMP:20260424T112050
CREATED:20260221T235439Z
LAST-MODIFIED:20260311T110129Z
UID:4295-1775242800-1775253600@kluventertainment.com
SUMMARY:Sea-Craft Waterfront Tiki - N. Ft. Myers\, FL
DESCRIPTION:
URL:https://kluventertainment.com/event/sea-craft-waterfront-tiki-n-ft-myers-fl/
LOCATION:Sea-Craft Waterfront Tiki\, 3440 Marinatown lane\, North Fort Myers\, FL\, 33903\, United States
CATEGORIES:Music - Band
END:VEVENT
END:VCALENDAR