BEGIN:VCALENDAR
VERSION:2.0
PRODID:-//KLuvEntertainment - ECPv6.15.5//NONSGML v1.0//EN
CALSCALE:GREGORIAN
METHOD:PUBLISH
X-ORIGINAL-URL:https://kluventertainment.com
X-WR-CALDESC:Events for KLuvEntertainment
REFRESH-INTERVAL;VALUE=DURATION:PT1H
X-Robots-Tag:noindex
X-PUBLISHED-TTL:PT1H
BEGIN:VTIMEZONE
TZID:America/New_York
BEGIN:DAYLIGHT
TZOFFSETFROM:-0500
TZOFFSETTO:-0400
TZNAME:EDT
DTSTART:20260308T070000
END:DAYLIGHT
BEGIN:STANDARD
TZOFFSETFROM:-0400
TZOFFSETTO:-0500
TZNAME:EST
DTSTART:20261101T060000
END:STANDARD
END:VTIMEZONE
BEGIN:VEVENT
DTSTART;TZID=America/New_York:20261128T180000
DTEND;TZID=America/New_York:20261128T220000
DTSTAMP:20260424T231408
CREATED:20260318T112130Z
LAST-MODIFIED:20260318T112130Z
UID:4378-1795888800-1795903200@kluventertainment.com
SUMMARY:Crump's Landing - Homosassa\, FL
DESCRIPTION:
URL:https://kluventertainment.com/event/crumps-landing-homosassa-fl-4/
LOCATION:Crump’s Landing – Homosassa\, 11210 W Halls River Rd.\, Homosassa\, FL\, 34448\, United States
CATEGORIES:Music - Band
END:VEVENT
END:VCALENDAR