BEGIN:VCALENDAR
VERSION:2.0
PRODID:-//KLuvEntertainment - ECPv6.15.5//NONSGML v1.0//EN
CALSCALE:GREGORIAN
METHOD:PUBLISH
X-WR-CALNAME:KLuvEntertainment
X-ORIGINAL-URL:https://kluventertainment.com
X-WR-CALDESC:Events for KLuvEntertainment
REFRESH-INTERVAL;VALUE=DURATION:PT1H
X-Robots-Tag:noindex
X-PUBLISHED-TTL:PT1H
BEGIN:VTIMEZONE
TZID:America/New_York
BEGIN:DAYLIGHT
TZOFFSETFROM:-0500
TZOFFSETTO:-0400
TZNAME:EDT
DTSTART:20260308T070000
END:DAYLIGHT
BEGIN:STANDARD
TZOFFSETFROM:-0400
TZOFFSETTO:-0500
TZNAME:EST
DTSTART:20261101T060000
END:STANDARD
END:VTIMEZONE
BEGIN:VEVENT
DTSTART;TZID=America/New_York:20261009T190000
DTEND;TZID=America/New_York:20261009T230000
DTSTAMP:20260424T203940
CREATED:20260318T111912Z
LAST-MODIFIED:20260318T111912Z
UID:4372-1791572400-1791586800@kluventertainment.com
SUMMARY:Motorworks Brewing - Bradenton\, FL
DESCRIPTION:
URL:https://kluventertainment.com/event/motorworks-brewing-bradenton-fl-3/
LOCATION:Motorworks Brewing\, 1014 9th St W.\, Bradenton\, FL\, 34205\, United States
CATEGORIES:Music - Band
END:VEVENT
BEGIN:VEVENT
DTSTART;TZID=America/New_York:20261016T190000
DTEND;TZID=America/New_York:20261016T230000
DTSTAMP:20260424T203940
CREATED:20260401T195538Z
LAST-MODIFIED:20260401T195538Z
UID:4408-1792177200-1792191600@kluventertainment.com
SUMMARY:Whiskey Wings - Oldsmar\, FL
DESCRIPTION:
URL:https://kluventertainment.com/event/whiskey-wings-oldsmar-fl/
LOCATION:Whiskey Wings Oldsmar\, 4013 Tampa Road\, Oldsmar\, FL\, 34677\, United States
CATEGORIES:Music - Band
END:VEVENT
BEGIN:VEVENT
DTSTART;TZID=America/New_York:20261017T180000
DTEND;TZID=America/New_York:20261017T230000
DTSTAMP:20260424T203940
CREATED:20260107T203831Z
LAST-MODIFIED:20260107T203831Z
UID:4246-1792260000-1792278000@kluventertainment.com
SUMMARY:Encore Live - Bradenton\, FL
DESCRIPTION:
URL:https://kluventertainment.com/event/encore-live-bradenton-fl-3/
LOCATION:Encore Live – Bradenton\, FL\, 5520 14th Street W\, Bradenton\, FL\, 34207
CATEGORIES:Music - Band
END:VEVENT
BEGIN:VEVENT
DTSTART;TZID=America/New_York:20261024T080000
DTEND;TZID=America/New_York:20261024T170000
DTSTAMP:20260424T203940
CREATED:20260401T195929Z
LAST-MODIFIED:20260401T195929Z
UID:4416-1792828800-1792861200@kluventertainment.com
SUMMARY:The Gator Club - Sarasota\, FL
DESCRIPTION:
URL:https://kluventertainment.com/event/the-gator-club-sarasota-fl-5/
LOCATION:The Gator Club – Sarasota\, 1490 Main St\, Sarasota\, FL\, 34236\, United States
CATEGORIES:Music - Band
END:VEVENT
END:VCALENDAR