BEGIN:VCALENDAR
VERSION:2.0
PRODID:-//KLuvEntertainment - ECPv6.15.5//NONSGML v1.0//EN
CALSCALE:GREGORIAN
METHOD:PUBLISH
X-ORIGINAL-URL:https://kluventertainment.com
X-WR-CALDESC:Events for KLuvEntertainment
REFRESH-INTERVAL;VALUE=DURATION:PT1H
X-Robots-Tag:noindex
X-PUBLISHED-TTL:PT1H
BEGIN:VTIMEZONE
TZID:America/New_York
BEGIN:DAYLIGHT
TZOFFSETFROM:-0500
TZOFFSETTO:-0400
TZNAME:EDT
DTSTART:20260308T070000
END:DAYLIGHT
BEGIN:STANDARD
TZOFFSETFROM:-0400
TZOFFSETTO:-0500
TZNAME:EST
DTSTART:20261101T060000
END:STANDARD
END:VTIMEZONE
BEGIN:VEVENT
DTSTART;TZID=America/New_York:20260403T190000
DTEND;TZID=America/New_York:20260403T220000
DTSTAMP:20260424T100649
CREATED:20260221T235439Z
LAST-MODIFIED:20260311T110129Z
UID:4295-1775242800-1775253600@kluventertainment.com
SUMMARY:Sea-Craft Waterfront Tiki - N. Ft. Myers\, FL
DESCRIPTION:
URL:https://kluventertainment.com/event/sea-craft-waterfront-tiki-n-ft-myers-fl/
LOCATION:Sea-Craft Waterfront Tiki\, 3440 Marinatown lane\, North Fort Myers\, FL\, 33903\, United States
CATEGORIES:Music - Band
END:VEVENT
END:VCALENDAR